Package: MicrobiomeProfiler Version: 1.12.0 Command: /home/biocbuild/R/R/bin/R CMD build --keep-empty-dirs --no-resave-data MicrobiomeProfiler StartedAt: 2025-02-04 00:57:21 -0000 (Tue, 04 Feb 2025) EndedAt: 2025-02-04 00:57:52 -0000 (Tue, 04 Feb 2025) EllapsedTime: 31.0 seconds RetCode: 0 Status: OK PackageFile: MicrobiomeProfiler_1.12.0.tar.gz PackageFileSize: 1.052 MiB