Package: MicrobiomeProfiler Version: 1.12.0 Command: F:\biocbuild\bbs-3.20-bioc\R\bin\R.exe CMD INSTALL MicrobiomeProfiler StartedAt: 2025-03-31 16:44:38 -0400 (Mon, 31 Mar 2025) EndedAt: 2025-03-31 16:46:11 -0400 (Mon, 31 Mar 2025) EllapsedTime: 93.6 seconds RetCode: 0 Status: OK