Package: MicrobiomeProfiler Version: 1.12.0 Command: /Library/Frameworks/R.framework/Resources/bin/R CMD INSTALL MicrobiomeProfiler StartedAt: 2025-01-27 16:25:35 -0500 (Mon, 27 Jan 2025) EndedAt: 2025-01-27 16:26:25 -0500 (Mon, 27 Jan 2025) EllapsedTime: 50.0 seconds RetCode: 0 Status: OK