Package: MicrobiomeProfiler Version: 1.12.0 Command: /Library/Frameworks/R.framework/Resources/bin/R CMD build --keep-empty-dirs --no-resave-data MicrobiomeProfiler StartedAt: 2025-02-03 20:17:45 -0500 (Mon, 03 Feb 2025) EndedAt: 2025-02-03 20:18:48 -0500 (Mon, 03 Feb 2025) EllapsedTime: 62.6 seconds RetCode: 0 Status: OK PackageFile: MicrobiomeProfiler_1.12.0.tar.gz PackageFileSize: 1.051 MiB