Package: MicrobiomeProfiler Version: 1.12.0 Command: rm -rf MicrobiomeProfiler.buildbin-libdir && mkdir MicrobiomeProfiler.buildbin-libdir && /Users/biocbuild/BBS/utils/build-universal.sh MicrobiomeProfiler_1.12.0.tar.gz /Library/Frameworks/R.framework/Resources/bin/R MicrobiomeProfiler.buildbin-libdir StartedAt: 2025-02-04 13:25:35 -0500 (Tue, 04 Feb 2025) EndedAt: 2025-02-04 13:26:53 -0500 (Tue, 04 Feb 2025) EllapsedTime: 77.7 seconds RetCode: 0 Status: OK PackageFile: MicrobiomeProfiler_1.12.0.tgz PackageFileSize: 1012 KiB