Package: MiRaGE Version: 1.48.0 Command: /home/biocbuild/R/R/bin/R CMD INSTALL MiRaGE StartedAt: 2025-01-27 21:17:45 -0000 (Mon, 27 Jan 2025) EndedAt: 2025-01-27 21:18:01 -0000 (Mon, 27 Jan 2025) EllapsedTime: 15.9 seconds RetCode: 0 Status: OK