Package: MiRaGE Version: 1.48.0 Command: /home/biocbuild/R/R/bin/R CMD build --keep-empty-dirs --no-resave-data MiRaGE StartedAt: 2025-01-28 01:34:47 -0000 (Tue, 28 Jan 2025) EndedAt: 2025-01-28 01:35:50 -0000 (Tue, 28 Jan 2025) EllapsedTime: 63.0 seconds RetCode: 0 Status: OK PackageFile: MiRaGE_1.48.0.tar.gz PackageFileSize: 1.301 MiB