Package: MiRaGE Version: 1.48.0 Command: F:\biocbuild\bbs-3.20-bioc\R\bin\R.exe CMD check --no-multiarch --install=check:MiRaGE.install-out.txt --library=F:\biocbuild\bbs-3.20-bioc\R\library --no-vignettes --timings MiRaGE_1.48.0.tar.gz StartedAt: 2025-04-01 03:30:12 -0400 (Tue, 01 Apr 2025) EndedAt: 2025-04-01 03:32:07 -0400 (Tue, 01 Apr 2025) EllapsedTime: 114.9 seconds RetCode: 0 Status: WARNINGS CheckDir: MiRaGE.Rcheck Warnings: 1