Package: MiRaGE Version: 1.48.0 Command: rm -rf MiRaGE.buildbin-libdir && mkdir MiRaGE.buildbin-libdir && /Users/biocbuild/BBS/utils/build-universal.sh MiRaGE_1.48.0.tar.gz /Library/Frameworks/R.framework/Resources/bin/R MiRaGE.buildbin-libdir StartedAt: 2025-04-02 15:11:39 -0400 (Wed, 02 Apr 2025) EndedAt: 2025-04-02 15:11:56 -0400 (Wed, 02 Apr 2025) EllapsedTime: 17.0 seconds RetCode: 0 Status: OK PackageFile: MiRaGE_1.48.0.tgz PackageFileSize: 1.353 MiB