Package: MiPP Version: 1.78.0 Command: /Library/Frameworks/R.framework/Resources/bin/R CMD build --keep-empty-dirs --no-resave-data MiPP StartedAt: 2025-04-01 03:11:19 -0400 (Tue, 01 Apr 2025) EndedAt: 2025-04-01 03:11:30 -0400 (Tue, 01 Apr 2025) EllapsedTime: 11.3 seconds RetCode: 0 Status: OK PackageFile: MiPP_1.78.0.tar.gz PackageFileSize: 410 KiB