Package: MiChip Version: 1.60.0 Command: /home/biocbuild/R/R/bin/R CMD check --install=check:MiChip.install-out.txt --library=/home/biocbuild/R/R/site-library --no-vignettes --timings MiChip_1.60.0.tar.gz StartedAt: 2025-02-04 08:46:07 -0000 (Tue, 04 Feb 2025) EndedAt: 2025-02-04 08:46:33 -0000 (Tue, 04 Feb 2025) EllapsedTime: 26.0 seconds RetCode: 0 Status: OK CheckDir: MiChip.Rcheck Warnings: 0