Package: MiChip Version: 1.60.0 Command: /Library/Frameworks/R.framework/Resources/bin/R CMD build --keep-empty-dirs --no-resave-data MiChip StartedAt: 2025-03-31 20:02:38 -0400 (Mon, 31 Mar 2025) EndedAt: 2025-03-31 20:03:07 -0400 (Mon, 31 Mar 2025) EllapsedTime: 29.1 seconds RetCode: 0 Status: OK PackageFile: MiChip_1.60.0.tar.gz PackageFileSize: 669.4 KiB