Package: MiChip Version: 1.60.0 Command: /Library/Frameworks/R.framework/Resources/bin/R CMD INSTALL MiChip StartedAt: 2025-02-03 15:10:30 -0500 (Mon, 03 Feb 2025) EndedAt: 2025-02-03 15:10:35 -0500 (Mon, 03 Feb 2025) EllapsedTime: 4.5 seconds RetCode: 0 Status: OK