Package: Mfuzz Version: 2.66.0 Command: rm -rf Mfuzz.buildbin-libdir && mkdir Mfuzz.buildbin-libdir && F:\biocbuild\bbs-3.20-bioc\R\bin\R.exe CMD INSTALL --build --library=Mfuzz.buildbin-libdir Mfuzz_2.66.0.tar.gz StartedAt: 2025-02-04 08:54:51 -0500 (Tue, 04 Feb 2025) EndedAt: 2025-02-04 08:55:12 -0500 (Tue, 04 Feb 2025) EllapsedTime: 20.9 seconds RetCode: 0 Status: OK PackageFile: Mfuzz_2.66.0.zip PackageFileSize: 698.8 KiB