Package: Mfuzz Version: 2.66.0 Command: /home/biocbuild/bbs-3.20-bioc/R/bin/R CMD check --install=check:Mfuzz.install-out.txt --library=/home/biocbuild/bbs-3.20-bioc/R/site-library --timings Mfuzz_2.66.0.tar.gz StartedAt: 2025-02-10 23:54:46 -0500 (Mon, 10 Feb 2025) EndedAt: 2025-02-10 23:55:23 -0500 (Mon, 10 Feb 2025) EllapsedTime: 37.0 seconds RetCode: 0 Status: OK CheckDir: Mfuzz.Rcheck Warnings: 0