Package: Mfuzz Version: 2.66.0 Command: /Library/Frameworks/R.framework/Resources/bin/R CMD build --keep-empty-dirs --no-resave-data Mfuzz StartedAt: 2025-02-10 20:16:00 -0500 (Mon, 10 Feb 2025) EndedAt: 2025-02-10 20:16:38 -0500 (Mon, 10 Feb 2025) EllapsedTime: 37.2 seconds RetCode: 0 Status: OK PackageFile: Mfuzz_2.66.0.tar.gz PackageFileSize: 819.5 KiB