Package: Mfuzz Version: 2.66.0 Command: /Library/Frameworks/R.framework/Resources/bin/R CMD build --keep-empty-dirs --no-resave-data Mfuzz StartedAt: 2025-02-04 03:19:17 -0500 (Tue, 04 Feb 2025) EndedAt: 2025-02-04 03:19:34 -0500 (Tue, 04 Feb 2025) EllapsedTime: 16.7 seconds RetCode: 0 Status: OK PackageFile: Mfuzz_2.66.0.tar.gz PackageFileSize: 819.5 KiB