Package: MethylSeekR Version: 1.46.0 Command: /home/biocbuild/R/R/bin/R CMD INSTALL MethylSeekR StartedAt: 2025-03-31 20:32:26 -0000 (Mon, 31 Mar 2025) EndedAt: 2025-03-31 20:33:04 -0000 (Mon, 31 Mar 2025) EllapsedTime: 37.5 seconds RetCode: 0 Status: OK