Package: MethylMix Version: 2.36.0 Command: /home/biocbuild/R/R/bin/R CMD check --install=check:MethylMix.install-out.txt --library=/home/biocbuild/R/R/site-library --no-vignettes --timings MethylMix_2.36.0.tar.gz StartedAt: 2025-01-28 08:47:23 -0000 (Tue, 28 Jan 2025) EndedAt: 2025-01-28 08:49:36 -0000 (Tue, 28 Jan 2025) EllapsedTime: 133.1 seconds RetCode: 0 Status: OK CheckDir: MethylMix.Rcheck Warnings: 0