Package: MethylMix Version: 2.36.0 Command: /home/biocbuild/R/R/bin/R CMD build --keep-empty-dirs --no-resave-data MethylMix StartedAt: 2025-01-28 01:28:55 -0000 (Tue, 28 Jan 2025) EndedAt: 2025-01-28 01:29:31 -0000 (Tue, 28 Jan 2025) EllapsedTime: 36.0 seconds RetCode: 0 Status: OK PackageFile: MethylMix_2.36.0.tar.gz PackageFileSize: 2.577 MiB