Package: MethylMix Version: 2.36.0 Command: /home/biocbuild/bbs-3.20-bioc/R/bin/R CMD check --install=check:MethylMix.install-out.txt --library=/home/biocbuild/bbs-3.20-bioc/R/site-library --timings MethylMix_2.36.0.tar.gz StartedAt: 2025-01-28 00:45:11 -0500 (Tue, 28 Jan 2025) EndedAt: 2025-01-28 00:49:46 -0500 (Tue, 28 Jan 2025) EllapsedTime: 275.2 seconds RetCode: 0 Status: OK CheckDir: MethylMix.Rcheck Warnings: 0