Package: MethylMix Version: 2.36.0 Command: /home/biocbuild/bbs-3.20-bioc/R/bin/R CMD build --keep-empty-dirs --no-resave-data --md5 MethylMix StartedAt: 2025-01-27 18:55:32 -0500 (Mon, 27 Jan 2025) EndedAt: 2025-01-27 18:55:57 -0500 (Mon, 27 Jan 2025) EllapsedTime: 25.0 seconds RetCode: 0 Status: OK PackageFile: MethylMix_2.36.0.tar.gz PackageFileSize: 2.578 MiB