Package: MethylMix Version: 2.36.0 Command: /Library/Frameworks/R.framework/Resources/bin/R CMD build --keep-empty-dirs --no-resave-data MethylMix StartedAt: 2025-01-27 20:22:52 -0500 (Mon, 27 Jan 2025) EndedAt: 2025-01-27 20:23:58 -0500 (Mon, 27 Jan 2025) EllapsedTime: 66.4 seconds RetCode: 0 Status: OK PackageFile: MethylMix_2.36.0.tar.gz PackageFileSize: 2.576 MiB