Package: MethylAid Version: 1.40.0 Command: /Library/Frameworks/R.framework/Resources/bin/R CMD INSTALL MethylAid StartedAt: 2025-02-03 16:42:58 -0500 (Mon, 03 Feb 2025) EndedAt: 2025-02-03 16:44:35 -0500 (Mon, 03 Feb 2025) EllapsedTime: 97.0 seconds RetCode: 0 Status: OK