Package: MethylAid Version: 1.40.0 Command: /Library/Frameworks/R.framework/Resources/bin/R CMD check --install=check:MethylAid.install-out.txt --library=/Library/Frameworks/R.framework/Resources/library --no-vignettes --timings MethylAid_1.40.0.tar.gz StartedAt: 2025-02-04 06:07:52 -0500 (Tue, 04 Feb 2025) EndedAt: 2025-02-04 06:27:25 -0500 (Tue, 04 Feb 2025) EllapsedTime: 1172.9 seconds RetCode: 0 Status: OK CheckDir: MethylAid.Rcheck Warnings: 0