Package: MethylAid Version: 1.40.0 Command: /Library/Frameworks/R.framework/Resources/bin/R CMD build --keep-empty-dirs --no-resave-data MethylAid StartedAt: 2025-02-03 20:11:50 -0500 (Mon, 03 Feb 2025) EndedAt: 2025-02-03 20:19:34 -0500 (Mon, 03 Feb 2025) EllapsedTime: 464.5 seconds RetCode: 0 Status: OK PackageFile: MethylAid_1.40.0.tar.gz PackageFileSize: 3.013 MiB