Package: MethylAid Version: 1.40.0 Command: rm -rf MethylAid.buildbin-libdir && mkdir MethylAid.buildbin-libdir && /Users/biocbuild/BBS/utils/build-universal.sh MethylAid_1.40.0.tar.gz /Library/Frameworks/R.framework/Resources/bin/R MethylAid.buildbin-libdir StartedAt: 2025-02-04 13:23:31 -0500 (Tue, 04 Feb 2025) EndedAt: 2025-02-04 13:25:49 -0500 (Tue, 04 Feb 2025) EllapsedTime: 138.1 seconds RetCode: 0 Status: OK PackageFile: MethylAid_1.40.0.tgz PackageFileSize: 3.269 MiB