Package: MethTargetedNGS Version: 1.38.0 Command: /home/biocbuild/bbs-3.20-bioc/R/bin/R CMD check --install=check:MethTargetedNGS.install-out.txt --library=/home/biocbuild/bbs-3.20-bioc/R/site-library --timings MethTargetedNGS_1.38.0.tar.gz StartedAt: 2025-01-28 00:42:24 -0500 (Tue, 28 Jan 2025) EndedAt: 2025-01-28 00:44:01 -0500 (Tue, 28 Jan 2025) EllapsedTime: 97.0 seconds RetCode: 0 Status: OK CheckDir: MethTargetedNGS.Rcheck Warnings: 0