Package: MethTargetedNGS Version: 1.38.0 Command: /Library/Frameworks/R.framework/Resources/bin/R CMD check --install=check:MethTargetedNGS.install-out.txt --library=/Library/Frameworks/R.framework/Resources/library --no-vignettes --timings MethTargetedNGS_1.38.0.tar.gz StartedAt: 2025-01-28 06:19:41 -0500 (Tue, 28 Jan 2025) EndedAt: 2025-01-28 06:23:12 -0500 (Tue, 28 Jan 2025) EllapsedTime: 210.5 seconds RetCode: 0 Status: OK CheckDir: MethTargetedNGS.Rcheck Warnings: 0