Package: MethTargetedNGS Version: 1.38.0 Command: /Library/Frameworks/R.framework/Resources/bin/R CMD build --keep-empty-dirs --no-resave-data MethTargetedNGS StartedAt: 2025-03-31 19:56:58 -0400 (Mon, 31 Mar 2025) EndedAt: 2025-03-31 19:57:50 -0400 (Mon, 31 Mar 2025) EllapsedTime: 51.8 seconds RetCode: 0 Status: OK PackageFile: MethTargetedNGS_1.38.0.tar.gz PackageFileSize: 282.5 KiB