Package: MethTargetedNGS Version: 1.38.0 Command: rm -rf MethTargetedNGS.buildbin-libdir && mkdir MethTargetedNGS.buildbin-libdir && /Users/biocbuild/BBS/utils/build-universal.sh MethTargetedNGS_1.38.0.tar.gz /Library/Frameworks/R.framework/Resources/bin/R MethTargetedNGS.buildbin-libdir StartedAt: 2025-04-01 12:12:39 -0400 (Tue, 01 Apr 2025) EndedAt: 2025-04-01 12:13:04 -0400 (Tue, 01 Apr 2025) EllapsedTime: 25.7 seconds RetCode: 0 Status: OK PackageFile: MethTargetedNGS_1.38.0.tgz PackageFileSize: 323 KiB