Package: MethPed Version: 1.34.0 Command: /home/biocbuild/bbs-3.20-bioc/R/bin/R CMD build --keep-empty-dirs --no-resave-data MethPed StartedAt: 2024-11-19 19:58:04 -0500 (Tue, 19 Nov 2024) EndedAt: 2024-11-19 19:59:12 -0500 (Tue, 19 Nov 2024) EllapsedTime: 68.1 seconds RetCode: 0 Status: OK PackageFile: MethPed_1.34.0.tar.gz PackageFileSize: 9.292 MiB