Package: MethPed Version: 1.34.0 Command: chmod a+r MethPed -R && F:\biocbuild\bbs-3.20-bioc\R\bin\R.exe CMD build --keep-empty-dirs --no-resave-data MethPed StartedAt: 2025-02-03 20:15:19 -0500 (Mon, 03 Feb 2025) EndedAt: 2025-02-03 20:17:12 -0500 (Mon, 03 Feb 2025) EllapsedTime: 112.7 seconds RetCode: 0 Status: OK PackageFile: MethPed_1.34.0.tar.gz PackageFileSize: 9.192 MiB