Package: MethPed Version: 1.34.0 Command: rm -rf MethPed.buildbin-libdir && mkdir MethPed.buildbin-libdir && F:\biocbuild\bbs-3.20-bioc\R\bin\R.exe CMD INSTALL --build --library=MethPed.buildbin-libdir MethPed_1.34.0.tar.gz StartedAt: 2025-04-01 08:34:44 -0400 (Tue, 01 Apr 2025) EndedAt: 2025-04-01 08:34:57 -0400 (Tue, 01 Apr 2025) EllapsedTime: 12.8 seconds RetCode: 0 Status: OK PackageFile: MethPed_1.34.0.zip PackageFileSize: 9.211 MiB