Package: MethPed Version: 1.34.0 Command: /home/biocbuild/bbs-3.20-bioc/R/bin/R CMD INSTALL MethPed StartedAt: 2025-02-03 15:49:17 -0500 (Mon, 03 Feb 2025) EndedAt: 2025-02-03 15:49:24 -0500 (Mon, 03 Feb 2025) EllapsedTime: 6.9 seconds RetCode: 0 Status: OK