Package: MetaboSignal Version: 1.36.0 Command: /home/biocbuild/bbs-3.20-bioc/R/bin/R CMD check --install=check:MetaboSignal.install-out.txt --library=/home/biocbuild/bbs-3.20-bioc/R/site-library --timings MetaboSignal_1.36.0.tar.gz StartedAt: 2025-01-30 23:45:02 -0500 (Thu, 30 Jan 2025) EndedAt: 2025-01-30 23:51:57 -0500 (Thu, 30 Jan 2025) EllapsedTime: 414.4 seconds RetCode: 0 Status: OK CheckDir: MetaboSignal.Rcheck Warnings: 0