Package: MetaboSignal Version: 1.36.0 Command: /Library/Frameworks/R.framework/Resources/bin/R CMD check --install=check:MetaboSignal.install-out.txt --library=/Library/Frameworks/R.framework/Resources/library --no-vignettes --timings MetaboSignal_1.36.0.tar.gz StartedAt: 2025-02-01 00:23:19 -0500 (Sat, 01 Feb 2025) EndedAt: 2025-02-01 00:30:14 -0500 (Sat, 01 Feb 2025) EllapsedTime: 415.0 seconds RetCode: 0 Status: OK CheckDir: MetaboSignal.Rcheck Warnings: 0