Package: MetaboCoreUtils Version: 1.14.0 Command: rm -rf MetaboCoreUtils.buildbin-libdir && mkdir MetaboCoreUtils.buildbin-libdir && F:\biocbuild\bbs-3.20-bioc\R\bin\R.exe CMD INSTALL --build --library=MetaboCoreUtils.buildbin-libdir MetaboCoreUtils_1.14.0.tar.gz StartedAt: 2025-04-01 08:33:54 -0400 (Tue, 01 Apr 2025) EndedAt: 2025-04-01 08:34:44 -0400 (Tue, 01 Apr 2025) EllapsedTime: 50.4 seconds RetCode: 0 Status: OK PackageFile: MetaboCoreUtils_1.14.0.zip PackageFileSize: 795.3 KiB