Package: MetaboCoreUtils Version: 1.14.0 Command: /home/biocbuild/bbs-3.20-bioc/R/bin/R CMD INSTALL MetaboCoreUtils StartedAt: 2025-01-27 16:08:16 -0500 (Mon, 27 Jan 2025) EndedAt: 2025-01-27 16:08:20 -0500 (Mon, 27 Jan 2025) EllapsedTime: 4.8 seconds RetCode: 0 Status: OK