Package: MetaboCoreUtils Version: 1.14.0 Command: /Library/Frameworks/R.framework/Resources/bin/R CMD INSTALL MetaboCoreUtils StartedAt: 2025-01-27 15:30:53 -0500 (Mon, 27 Jan 2025) EndedAt: 2025-01-27 15:31:06 -0500 (Mon, 27 Jan 2025) EllapsedTime: 13.0 seconds RetCode: 0 Status: OK