Package: MetaboCoreUtils Version: 1.14.0 Command: /Library/Frameworks/R.framework/Resources/bin/R CMD build --keep-empty-dirs --no-resave-data MetaboCoreUtils StartedAt: 2025-01-27 20:16:55 -0500 (Mon, 27 Jan 2025) EndedAt: 2025-01-27 20:17:49 -0500 (Mon, 27 Jan 2025) EllapsedTime: 54.1 seconds RetCode: 0 Status: OK PackageFile: MetaboCoreUtils_1.14.0.tar.gz PackageFileSize: 1.001 MiB