Package: MetaboCoreUtils Version: 1.14.0 Command: rm -rf MetaboCoreUtils.buildbin-libdir && mkdir MetaboCoreUtils.buildbin-libdir && /Users/biocbuild/BBS/utils/build-universal.sh MetaboCoreUtils_1.14.0.tar.gz /Library/Frameworks/R.framework/Resources/bin/R MetaboCoreUtils.buildbin-libdir StartedAt: 2024-11-20 04:35:35 -0500 (Wed, 20 Nov 2024) EndedAt: 2024-11-20 04:35:48 -0500 (Wed, 20 Nov 2024) EllapsedTime: 12.6 seconds RetCode: 0 Status: OK PackageFile: MetaboCoreUtils_1.14.0.tgz PackageFileSize: 1.08 MiB