Package: MetaboCoreUtils Version: 1.14.0 Command: /Library/Frameworks/R.framework/Resources/bin/R CMD INSTALL MetaboCoreUtils StartedAt: 2024-11-08 15:22:02 -0500 (Fri, 08 Nov 2024) EndedAt: 2024-11-08 15:22:04 -0500 (Fri, 08 Nov 2024) EllapsedTime: 2.1 seconds RetCode: 0 Status: OK