Package: MetaboCoreUtils Version: 1.14.0 Command: rm -rf MetaboCoreUtils.buildbin-libdir && mkdir MetaboCoreUtils.buildbin-libdir && /Users/biocbuild/BBS/utils/build-universal.sh MetaboCoreUtils_1.14.0.tar.gz /Library/Frameworks/R.framework/Resources/bin/R MetaboCoreUtils.buildbin-libdir StartedAt: 2024-11-09 16:57:37 -0500 (Sat, 09 Nov 2024) EndedAt: 2024-11-09 16:57:40 -0500 (Sat, 09 Nov 2024) EllapsedTime: 3.0 seconds RetCode: 0 Status: OK PackageFile: MetaboCoreUtils_1.14.0.tgz PackageFileSize: 1.083 MiB