Package: MetaboCoreUtils Version: 1.14.0 Command: /Library/Frameworks/R.framework/Resources/bin/R CMD INSTALL MetaboCoreUtils StartedAt: 2025-02-03 15:43:25 -0500 (Mon, 03 Feb 2025) EndedAt: 2025-02-03 15:43:29 -0500 (Mon, 03 Feb 2025) EllapsedTime: 3.6 seconds RetCode: 0 Status: OK