Package: MetaboCoreUtils Version: 1.14.0 Command: /Library/Frameworks/R.framework/Resources/bin/R CMD check --install=check:MetaboCoreUtils.install-out.txt --library=/Library/Frameworks/R.framework/Resources/library --no-vignettes --timings MetaboCoreUtils_1.14.0.tar.gz StartedAt: 2025-04-02 00:04:15 -0400 (Wed, 02 Apr 2025) EndedAt: 2025-04-02 00:05:18 -0400 (Wed, 02 Apr 2025) EllapsedTime: 62.2 seconds RetCode: 0 Status: OK CheckDir: MetaboCoreUtils.Rcheck Warnings: 0