Package: MetaboCoreUtils Version: 1.14.0 Command: rm -rf MetaboCoreUtils.buildbin-libdir && mkdir MetaboCoreUtils.buildbin-libdir && /Users/biocbuild/BBS/utils/build-universal.sh MetaboCoreUtils_1.14.0.tar.gz /Library/Frameworks/R.framework/Resources/bin/R MetaboCoreUtils.buildbin-libdir StartedAt: 2025-02-05 16:33:30 -0500 (Wed, 05 Feb 2025) EndedAt: 2025-02-05 16:33:38 -0500 (Wed, 05 Feb 2025) EllapsedTime: 8.0 seconds RetCode: 0 Status: OK PackageFile: MetaboCoreUtils_1.14.0.tgz PackageFileSize: 1.08 MiB