Package: MetaboAnnotation Version: 1.10.1 Command: /home/biocbuild/R/R/bin/R CMD INSTALL MetaboAnnotation StartedAt: 2025-01-27 21:58:29 -0000 (Mon, 27 Jan 2025) EndedAt: 2025-01-27 21:59:20 -0000 (Mon, 27 Jan 2025) EllapsedTime: 50.2 seconds RetCode: 0 Status: OK