Package: MetaboAnnotation Version: 1.10.1 Command: /home/biocbuild/R/R/bin/R CMD check --install=check:MetaboAnnotation.install-out.txt --library=/home/biocbuild/R/R/site-library --no-vignettes --timings MetaboAnnotation_1.10.1.tar.gz StartedAt: 2025-01-28 08:40:27 -0000 (Tue, 28 Jan 2025) EndedAt: 2025-01-28 08:46:44 -0000 (Tue, 28 Jan 2025) EllapsedTime: 376.4 seconds RetCode: 0 Status: OK CheckDir: MetaboAnnotation.Rcheck Warnings: 0