Package: MetaPhOR Version: 1.8.0 Command: /home/biocbuild/R/R/bin/R CMD INSTALL MetaPhOR StartedAt: 2025-01-27 21:53:53 -0000 (Mon, 27 Jan 2025) EndedAt: 2025-01-27 21:54:25 -0000 (Mon, 27 Jan 2025) EllapsedTime: 31.7 seconds RetCode: 0 Status: OK